BEGIN:VCALENDAR
VERSION:2.0
PRODID:-//Library Market//iCal Export//EN
BEGIN:VEVENT
SUMMARY:Stories in the Park
UID:16885
DTSTAMP:20260422T201300Z
DTSTART:20260717T170000Z
DTEND:20260717T173000Z
LOCATION:Sparta Library, 22 Woodport Road, Sparta, NJ 07871, United States
ROOM: Stories in the Park
DESCRIPTION:Join Ms. Angela under the pavillion by the pond at Station Par
 k. Go for a picnic and stay for Storytime! Weather permitting. Any cancel
 lation will be announced that morning on Facebook. No registration requir
 ed. 
URL:https://spartapl.librarycalendar.com/event/stories-park-16885
END:VEVENT
END:VCALENDAR
