BEGIN:VCALENDAR
VERSION:2.0
PRODID:-//Library Market//iCal Export//EN
BEGIN:VEVENT
SUMMARY:Stories in the Park
UID:16886
DTSTAMP:20260423T224700Z
DTSTART:20260814T170000Z
DTEND:20260814T173000Z
LOCATION:Sparta Library, 22 Woodport Road, Sparta, NJ 07871, United States
ROOM: Stories in the Park
DESCRIPTION:Join Ms. Angela under the pavillion by the pond at Station Par
 k. Go for a picnic and stay for Storytime! Weather permitting. Any cancel
 lation will be announced that morning on Facebook. No registration requir
 ed. 
URL:https://spartapl.librarycalendar.com/event/stories-park-16886
END:VEVENT
END:VCALENDAR
