BEGIN:VCALENDAR
VERSION:2.0
PRODID:-//Library Market//iCal Export//EN
BEGIN:VEVENT
SUMMARY:Visit us at Sparta Day!
UID:16970
DTSTAMP:20260424T070700Z
DTSTART:20260530T150000Z
DTEND:20260530T210000Z
LOCATION:Station Park, 100 Station Road, Sparta, NJ 07871, United States
ROOM: Visit us at Sparta Day!
DESCRIPTION:Come visit us at Sparta Day at Station Park!
URL:https://spartapl.librarycalendar.com/event/visit-us-sparta-day-16970
END:VEVENT
END:VCALENDAR
