BEGIN:VCALENDAR
VERSION:2.0
PRODID:-//Library Market//iCal Export//EN
BEGIN:VEVENT
SUMMARY:ZOOM Paint &amp; Sip
UID:17043
DTSTAMP:20260423T224700Z
DTSTART:20260518T230000Z
DTEND:20260519T010000Z
LOCATION:
DESCRIPTION:Paint &amp; Sip on ZOOM with Marsha TurnerMarsha is a retired 
 middle school Art Teacher of 20 years. A former art business owner, summer
  camp director, mother and grandmother with a passion &amp; joy for painti
 ng and teaching!We provide the supplies &amp; instruction you need to crea
 te a beautiful picture and you can enjoy this fun evening from the comfort
  of home.  You will need to provide your own brushes. You will be notifi
 ed to pick up your supplies a few days before the class.
URL:https://spartapl.librarycalendar.com/event/zoom-paint-sip-17043
END:VEVENT
END:VCALENDAR
